BEGIN:VCALENDAR
VERSION:2.0
PRODID:-//Emerson Theatres - ECPv6.15.19//NONSGML v1.0//EN
CALSCALE:GREGORIAN
METHOD:PUBLISH
X-WR-CALNAME:Emerson Theatres
X-ORIGINAL-URL:https://emersontheatres.org
X-WR-CALDESC:Events for Emerson Theatres
REFRESH-INTERVAL;VALUE=DURATION:PT1H
X-Robots-Tag:noindex
X-PUBLISHED-TTL:PT1H
BEGIN:VTIMEZONE
TZID:America/New_York
BEGIN:DAYLIGHT
TZOFFSETFROM:-0500
TZOFFSETTO:-0400
TZNAME:EDT
DTSTART:20250309T070000
END:DAYLIGHT
BEGIN:STANDARD
TZOFFSETFROM:-0400
TZOFFSETTO:-0500
TZNAME:EST
DTSTART:20251102T060000
END:STANDARD
BEGIN:DAYLIGHT
TZOFFSETFROM:-0500
TZOFFSETTO:-0400
TZNAME:EDT
DTSTART:20260308T070000
END:DAYLIGHT
BEGIN:STANDARD
TZOFFSETFROM:-0400
TZOFFSETTO:-0500
TZNAME:EST
DTSTART:20261101T060000
END:STANDARD
BEGIN:DAYLIGHT
TZOFFSETFROM:-0500
TZOFFSETTO:-0400
TZNAME:EDT
DTSTART:20270314T070000
END:DAYLIGHT
BEGIN:STANDARD
TZOFFSETFROM:-0400
TZOFFSETTO:-0500
TZNAME:EST
DTSTART:20271107T060000
END:STANDARD
END:VTIMEZONE
BEGIN:VEVENT
DTSTART;TZID=America/New_York:20260423T000000
DTEND;TZID=America/New_York:20260423T235959
DTSTAMP:20260423T120038
CREATED:20260311T164610Z
LAST-MODIFIED:20260316T171657Z
UID:1370-1776902400-1776988799@emersontheatres.org
SUMMARY:Special Presentation: Saving Face
DESCRIPTION:A queer romantic comedy set in vibrant\, multicultural New York City\, Alice Wu’s irresistible feature debut breathed fresh life into the genre by combining snappy dialogue and a swooning love story with a poignant narrative about a mother and daughter coming to terms with each other. Just as Wil (Michelle Krusiec)\, a harried young surgical resident\, begins a promising romance with the flirtatious dancer Vivian (Lynn Chen)\, her life is turned upside down when her more traditional Chinese mother (Joan Chen)—unwed and unexpectedly pregnant—moves in with her\, forcing both women to confront the generational and cultural barriers that have long troubled their relationship. Both embracing and cleverly subverting rom-com conventions\, Wu delivers a bighearted ode to the Chinese American diaspora\, and the liberating joy of living one’s truth.
URL:https://artsemerson.org/events/saving-face/
LOCATION:Bright Family Screening Room\, 559 Washington St\, Boston\, Massachusetts\, 02111\, United States
ATTACH;FMTTYPE=image/png:https://emersontheatres.org/wp-content/uploads/sites/81/2026/03/saving-face.png
END:VEVENT
END:VCALENDAR