BEGIN:VCALENDAR
VERSION:2.0
PRODID:-//Emerson Theatres - ECPv6.15.19//NONSGML v1.0//EN
CALSCALE:GREGORIAN
METHOD:PUBLISH
X-ORIGINAL-URL:https://emersontheatres.org
X-WR-CALDESC:Events for Emerson Theatres
REFRESH-INTERVAL;VALUE=DURATION:PT1H
X-Robots-Tag:noindex
X-PUBLISHED-TTL:PT1H
BEGIN:VTIMEZONE
TZID:America/New_York
BEGIN:DAYLIGHT
TZOFFSETFROM:-0500
TZOFFSETTO:-0400
TZNAME:EDT
DTSTART:20250309T070000
END:DAYLIGHT
BEGIN:STANDARD
TZOFFSETFROM:-0400
TZOFFSETTO:-0500
TZNAME:EST
DTSTART:20251102T060000
END:STANDARD
BEGIN:DAYLIGHT
TZOFFSETFROM:-0500
TZOFFSETTO:-0400
TZNAME:EDT
DTSTART:20260308T070000
END:DAYLIGHT
BEGIN:STANDARD
TZOFFSETFROM:-0400
TZOFFSETTO:-0500
TZNAME:EST
DTSTART:20261101T060000
END:STANDARD
BEGIN:DAYLIGHT
TZOFFSETFROM:-0500
TZOFFSETTO:-0400
TZNAME:EDT
DTSTART:20270314T070000
END:DAYLIGHT
BEGIN:STANDARD
TZOFFSETFROM:-0400
TZOFFSETTO:-0500
TZNAME:EST
DTSTART:20271107T060000
END:STANDARD
END:VTIMEZONE
BEGIN:VEVENT
DTSTART;TZID=America/New_York:20260212T180000
DTEND;TZID=America/New_York:20260212T220000
DTSTAMP:20260423T154142
CREATED:20260123T155354Z
LAST-MODIFIED:20260123T155749Z
UID:1146-1770919200-1770933600@emersontheatres.org
SUMMARY:Waveforms
DESCRIPTION:Waveforms\n\n\n\nA Multimedia Art Occurrence \n\n\n\n\nThis Winter\, WaveForms returns with Boston’s best multimedia art occurrence\, taking over the Emerson Paramount Center for the first time! \n\n\n\nPresented by the Museum of Science\, MASARY Studios\, and Emerson College\, the evening will feature installation artwork\, audio visual performance\, spatial sound\, experimental animation\, and video screenings from artists around the globe as part of the Museum’s Year of Revolutionary Science. \n\n\n\nArt\, science\, and technology are woven together in this one-night-only multimedia art occurrence\, exclusively activating the Paramount Center! \n\n\n\nArtwork Track Information: \n\n\n\nWaveForms is produced and curated by a unique cohort of organizations to bring the event to life: \n\n\n\n\nVideo + Animation Screenings curated by Boston CyberArts\n\n\n\nMedia Installation Artworks curated by Illuminus Boston\n\n\n\nSpatial Sound Mixtape curated by MIT Spatial Sound Lab\n\n\n\nAudio Visual Performances curated by MASARY\n\n\n\nLED Media Facade curated by Emerson College\n\n\n\n\nAV Production Partner – AVFX \n\n\n\nGet Tickets\n\n\nPhoto Credit: Misha BarshteynPhoto Credit: Misha BarshteynPhoto Credit: Misha BarshteynPhoto Credit: Misha Barshteyn\n\n\nIn Partnership With\n\n\n\n\n\n\n\n\n\n\n\nMuseum of Science\n\n\n\nAs science and technology increasingly shape our lives\, the Museum of Science strives to equip and inspire everyone to use science for the global good. Among the world’s largest science centers and New England’s most attended cultural institution\, we engage nearly five million people a year – at Science Park and in museums around the world\, in classrooms\, and online. \n\n\n\nThe Museum’s singular location connecting Boston and Cambridge puts us at the junction of some of the world’s most influential academic institutions and industries\, local and state government\, schools\, and the public. Trusted by each sector\, we are ideally positioned to convene\, inspire\, and create meaningful experiences for all. \n\n\n\nMuseum of Science1 Science Park\, Boston\, MA 02114 \n\n\n\nWebsite: https://www.mos.org/ \n\n\n\n\n\n\n\n\n\n\n\n\n\n\n\n\n\nEmerson College\n\n\n\nEmerson College\, a nonprofit educational institution\, draws independent minds from diverse backgrounds around the world through its highly regarded academic programs in communication\, and the arts. Energized by engagement with the creative life of Boston\, Los Angeles\, and the Netherlands\, our students are thinkers and doers who develop daring ideas and bring innovation\, depth\, and diversity to their disciplines. \n\n\n\nWebsite: Emerson College \n\n\n\n\n\n\n\n\n\n\n\n\n\n\n\n\n\nMASARY Studios\n\n\n\nMASARY Studios is a transdisciplinary artist collective reconsidering environments through site-specific installations using sound\, light\, interactivity\, and performance. The studio’s practice includes live percussion performance\, electronic music and production\, facade projection-mapped video\, artistic research\, technology and materials fabrication\, and the expansive use of animation. Founded in 2015\, MASARY is artist-owned and managed. \n\n\n\nWebsite: MASARY \n\n\n\n\n\n\n\n\n\n\n\n\n\n\n\n\n\nBoston Cyberarts\n\n\n\nBoston Cyberarts was founded to organize the Boston Cyberarts Festival\, a biennial festival of artists and high-technology professionals from New England and throughout the world. The Festival included exhibitions of visual arts: music\, dance\, and theatrical performances; film and video presentations; educational programs; and lecture/demonstrations and symposia. Events take place at locations in and around Boston\, including theaters\, museums\, galleries\, artists’ studios\, educational institutions\, and other public spaces. The Festival first took place during the first two weeks of May 1999. The last festival was held in spring 2011. \n\n\n\nWebsite: Boston Cyberarts \n\n\n\n\n\n\n\n\n\n\n\n\n\n\n\n\n\nMIT Spatial Sound Lab\n\n\n\nMIT Spatial Sound Lab is a community studio for making immersive audio productions. They organize listening events\, meetups with open decks\, and a larger biennial festival called Dissolve Music. Founded in 2019 by Ian Condry\, the Lab has production and listening rooms featuring the d&b Soundscape (16.4) and Dolby Atmos (7.1)\, and they also encourage DIY approaches and experimentation. Spatial sound is a broad category that refers to audio playback that goes beyond traditional stereo\, including multichannel\, binaural\, ambisonics\, object-based mixing and more. Their emphasis is on live performances with audiences in shared physical space. \n\n\n\nWebsite: MIT Spatial Sound Lab \n\n\n\n\n\n\n\n\n\n\n\n\n\n\n\n\n\nAVFX\n\n\n\nAVFX is a production company that works collaboratively with meeting planners\, event producers\, and exhibit designers to deliver exceptional experiences\, life-long memories\, and lasting relationships. With offices in Boston and Denver\, AVFX supports events across the country and understand that your show is the most important one happening anywhere in the world. \n\n\n\nWebsite: AVFX \n\n\n\n\n\n\n\n\n\n\n\n\n\n\n\n\n\nIlluminus\n\n\n\nILLUMINUS uses the creative process of developing and producing immersive\, nighttime public art experiences to enable artists to connect\, inspire\, and empower their communities. Since 2014\, ILLUMINUS has been offering local creatives the resources and technology they need to transform public space through light and projection\, augmenting reality to present a city reimagined\, at full scale and in real time. \n\n\n\nWebsite: Illuminus \n\n\n\n\n\n\n\nEvent Info\n\n\n\nDates\n\n\n\n\n\n\n\n\n\n\n\n\n\n\n\n\n\nGet Tickets\n\n\n\n\n\n\n\nVenue\n\n\n\n\n\n\n\n\n\nDetails\n\n\n\n\n\n\n\n\n\n\n4 Hours \n\n\n\n\n\n\n\n\n\n\n\nAge 18+ \n\n\n\n\n\n\n\n\n\n\n\nFREE with Registration \n\n\n\n\n \n\n\n\n\nHealth & Safety Information
URL:https://emersontheatres.org/event/waveforms/
LOCATION:Emerson Paramount Center\, 559 Washington St\, Boston\, MA 02111\, Boston\, MA\, 02111\, United States
ATTACH;FMTTYPE=image/png:https://emersontheatres.org/wp-content/uploads/sites/81/2026/01/waveforms.png
END:VEVENT
END:VCALENDAR